BEGIN:VCALENDAR
VERSION:2.0
PRODID:spatie/icalendar-generator
NAME:Broadway Broncos Booster Calendar
X-WR-CALNAME:Broadway Broncos Booster Calendar
REFRESH-INTERVAL;VALUE=DURATION:PT30M
X-PUBLISHED-TTL:PT30M
BEGIN:VTIMEZONE
TZID:America/Chicago
BEGIN:STANDARD
DTSTART:20251102T010000
TZOFFSETFROM:-0500
TZOFFSETTO:-0600
END:STANDARD
BEGIN:DAYLIGHT
DTSTART:20260308T010000
TZOFFSETFROM:-0600
TZOFFSETTO:-0500
END:DAYLIGHT
BEGIN:STANDARD
DTSTART:20261101T010000
TZOFFSETFROM:-0500
TZOFFSETTO:-0600
END:STANDARD
END:VTIMEZONE
BEGIN:VTIMEZONE
TZID:UTC
BEGIN:STANDARD
DTSTART:20250725T222203
TZOFFSETFROM:+0000
TZOFFSETTO:+0000
END:STANDARD
END:VTIMEZONE
BEGIN:VEVENT
UID:event-618570@mbhsbroadwaybroncosboosterclub.boosterhub.com
DTSTAMP:20260421T222203Z
SUMMARY:Booster Club meeting
DESCRIPTION:
LOCATION:TBA
DTSTART;TZID=America/Chicago:20260507T183000
DTEND;TZID=America/Chicago:20260507T200000
END:VEVENT
BEGIN:VEVENT
UID:event-841687@mbhsbroadwaybroncosboosterclub.boosterhub.com
DTSTAMP:20260421T222203Z
SUMMARY:Bye Bye Birdie
DESCRIPTION:
LOCATION:
DTSTART;TZID=America/Chicago:20260430T190000
DTEND;TZID=America/Chicago:20260430T210000
END:VEVENT
BEGIN:VEVENT
UID:event-841688@mbhsbroadwaybroncosboosterclub.boosterhub.com
DTSTAMP:20260421T222203Z
SUMMARY:Bye Bye Birdie
DESCRIPTION:
LOCATION:
DTSTART;TZID=America/Chicago:20260501T190000
DTEND;TZID=America/Chicago:20260501T210000
END:VEVENT
BEGIN:VEVENT
UID:event-956974@mbhsbroadwaybroncosboosterclub.boosterhub.com
DTSTAMP:20260421T222203Z
SUMMARY:Bye Bye Birdie
DESCRIPTION:
LOCATION:
DTSTART;TZID=America/Chicago:20260502T190000
DTEND;TZID=America/Chicago:20260502T210000
END:VEVENT
END:VCALENDAR